BEGIN:VCALENDAR
VERSION:2.0
PRODID:-//Castleton Hill Moravian Church - ECPv6.15.20//NONSGML v1.0//EN
CALSCALE:GREGORIAN
METHOD:PUBLISH
X-WR-CALNAME:Castleton Hill Moravian Church
X-ORIGINAL-URL:https://www.castletonhill.org
X-WR-CALDESC:Events for Castleton Hill Moravian Church
REFRESH-INTERVAL;VALUE=DURATION:PT1H
X-Robots-Tag:noindex
X-PUBLISHED-TTL:PT1H
BEGIN:VTIMEZONE
TZID:America/New_York
BEGIN:DAYLIGHT
TZOFFSETFROM:-0500
TZOFFSETTO:-0400
TZNAME:EDT
DTSTART:20250309T070000
END:DAYLIGHT
BEGIN:STANDARD
TZOFFSETFROM:-0400
TZOFFSETTO:-0500
TZNAME:EST
DTSTART:20251102T060000
END:STANDARD
BEGIN:DAYLIGHT
TZOFFSETFROM:-0500
TZOFFSETTO:-0400
TZNAME:EDT
DTSTART:20260308T070000
END:DAYLIGHT
BEGIN:STANDARD
TZOFFSETFROM:-0400
TZOFFSETTO:-0500
TZNAME:EST
DTSTART:20261101T060000
END:STANDARD
BEGIN:DAYLIGHT
TZOFFSETFROM:-0500
TZOFFSETTO:-0400
TZNAME:EDT
DTSTART:20270314T070000
END:DAYLIGHT
BEGIN:STANDARD
TZOFFSETFROM:-0400
TZOFFSETTO:-0500
TZNAME:EST
DTSTART:20271107T060000
END:STANDARD
END:VTIMEZONE
BEGIN:VEVENT
DTSTART;TZID=America/New_York:20260322T110000
DTEND;TZID=America/New_York:20260322T123000
DTSTAMP:20260423T063447
CREATED:20260227T020746Z
LAST-MODIFIED:20260227T023723Z
UID:6495-1774177200-1774182600@www.castletonhill.org
SUMMARY:Fellowship Hour
DESCRIPTION:Fellowship hour is a time after Worship for refreshments\, meet and greet\, and catching up with old friends and new.
URL:https://www.castletonhill.org/event/fellowship-hour-17/
LOCATION:Castleton Hill Moravian Church\, 1657 Victory Blvd\, Staten Island\, NY\, 10314\, United States
CATEGORIES:Recreational
ATTACH;FMTTYPE=image/jpeg:https://www.castletonhill.org/wp-content/uploads/2025/03/chmc-fellowship-hour-1920-sm.jpg
END:VEVENT
BEGIN:VEVENT
DTSTART;TZID=America/New_York:20260315T160000
DTEND;TZID=America/New_York:20260315T180000
DTSTAMP:20260423T063447
CREATED:20260227T013211Z
LAST-MODIFIED:20260227T013211Z
UID:6483-1773590400-1773597600@www.castletonhill.org
SUMMARY:Game Night
DESCRIPTION:Game Night meets on Sundays at 4:00 pm at Castleton Hill Moravian Church. \nPlayers donate $1 per session as a contribution to the church. \nIf there is a question about whether there will be a session due to weather or special events\, please call the church office at +1 718-442-5215.
URL:https://www.castletonhill.org/event/game-night-15/
LOCATION:Castleton Hill Moravian Church\, 1657 Victory Blvd\, Staten Island\, NY\, 10314\, United States
CATEGORIES:Recreational
ATTACH;FMTTYPE=image/jpeg:https://www.castletonhill.org/wp-content/uploads/2025/03/chmc-game-night-1920-sm.jpg
END:VEVENT
BEGIN:VEVENT
DTSTART;TZID=America/New_York:20260315T110000
DTEND;TZID=America/New_York:20260315T123000
DTSTAMP:20260423T063447
CREATED:20260227T020457Z
LAST-MODIFIED:20260227T023813Z
UID:6493-1773572400-1773577800@www.castletonhill.org
SUMMARY:Fellowship Hour
DESCRIPTION:Fellowship hour is a time after Worship for refreshments\, meet and greet\, and catching up with old friends and new.
URL:https://www.castletonhill.org/event/fellowship-hour-16/
LOCATION:Castleton Hill Moravian Church\, 1657 Victory Blvd\, Staten Island\, NY\, 10314\, United States
CATEGORIES:Recreational
ATTACH;FMTTYPE=image/jpeg:https://www.castletonhill.org/wp-content/uploads/2025/03/chmc-fellowship-hour-1920-sm.jpg
END:VEVENT
BEGIN:VEVENT
DTSTART;TZID=America/New_York:20260308T160000
DTEND;TZID=America/New_York:20260308T180000
DTSTAMP:20260423T063447
CREATED:20260227T013045Z
LAST-MODIFIED:20260227T013045Z
UID:6481-1772985600-1772992800@www.castletonhill.org
SUMMARY:Game Night
DESCRIPTION:Game Night meets on Sundays at 4:00 pm at Castleton Hill Moravian Church. \nPlayers donate $1 per session as a contribution to the church. \nIf there is a question about whether there will be a session due to weather or special events\, please call the church office at +1 718-442-5215.
URL:https://www.castletonhill.org/event/game-night-14/
LOCATION:Castleton Hill Moravian Church\, 1657 Victory Blvd\, Staten Island\, NY\, 10314\, United States
CATEGORIES:Recreational
ATTACH;FMTTYPE=image/jpeg:https://www.castletonhill.org/wp-content/uploads/2025/03/chmc-game-night-1920-sm.jpg
END:VEVENT
BEGIN:VEVENT
DTSTART;TZID=America/New_York:20260308T110000
DTEND;TZID=America/New_York:20260308T123000
DTSTAMP:20260423T063447
CREATED:20260227T020253Z
LAST-MODIFIED:20260227T023831Z
UID:6491-1772967600-1772973000@www.castletonhill.org
SUMMARY:Fellowship Hour
DESCRIPTION:Fellowship hour is a time after Worship for refreshments\, meet and greet\, and catching up with old friends and new.
URL:https://www.castletonhill.org/event/fellowship-hour-15/
LOCATION:Castleton Hill Moravian Church\, 1657 Victory Blvd\, Staten Island\, NY\, 10314\, United States
CATEGORIES:Recreational
ATTACH;FMTTYPE=image/jpeg:https://www.castletonhill.org/wp-content/uploads/2025/03/chmc-fellowship-hour-1920-sm.jpg
END:VEVENT
BEGIN:VEVENT
DTSTART;TZID=America/New_York:20260301T160000
DTEND;TZID=America/New_York:20260301T180000
DTSTAMP:20260423T063447
CREATED:20260227T012927Z
LAST-MODIFIED:20260227T012927Z
UID:6479-1772380800-1772388000@www.castletonhill.org
SUMMARY:Game Night
DESCRIPTION:Game Night meets on Sundays at 4:00 pm at Castleton Hill Moravian Church. \nPlayers donate $1 per session as a contribution to the church. \nIf there is a question about whether there will be a session due to weather or special events\, please call the church office at +1 718-442-5215.
URL:https://www.castletonhill.org/event/game-night-13/
LOCATION:Castleton Hill Moravian Church\, 1657 Victory Blvd\, Staten Island\, NY\, 10314\, United States
CATEGORIES:Recreational
ATTACH;FMTTYPE=image/jpeg:https://www.castletonhill.org/wp-content/uploads/2025/03/chmc-game-night-1920-sm.jpg
END:VEVENT
BEGIN:VEVENT
DTSTART;TZID=America/New_York:20260301T110000
DTEND;TZID=America/New_York:20260301T123000
DTSTAMP:20260423T063447
CREATED:20260227T015419Z
LAST-MODIFIED:20260227T015419Z
UID:6489-1772362800-1772368200@www.castletonhill.org
SUMMARY:Fellowship Hour
DESCRIPTION:Fellowship hour is a time after Worship for refreshments\, meet and greet\, and catching up with old friends and new.
URL:https://www.castletonhill.org/event/fellowship-hour-14/
LOCATION:Castleton Hill Moravian Church\, 1657 Victory Blvd\, Staten Island\, NY\, 10314\, United States
CATEGORIES:Recreational
ATTACH;FMTTYPE=image/jpeg:https://www.castletonhill.org/wp-content/uploads/2025/03/chmc-fellowship-hour-1920-sm.jpg
END:VEVENT
END:VCALENDAR