BEGIN:VCALENDAR
VERSION:2.0
PRODID:-//Castleton Hill Moravian Church - ECPv6.15.20//NONSGML v1.0//EN
CALSCALE:GREGORIAN
METHOD:PUBLISH
X-ORIGINAL-URL:https://www.castletonhill.org
X-WR-CALDESC:Events for Castleton Hill Moravian Church
REFRESH-INTERVAL;VALUE=DURATION:PT1H
X-Robots-Tag:noindex
X-PUBLISHED-TTL:PT1H
BEGIN:VTIMEZONE
TZID:America/New_York
BEGIN:DAYLIGHT
TZOFFSETFROM:-0500
TZOFFSETTO:-0400
TZNAME:EDT
DTSTART:20250309T070000
END:DAYLIGHT
BEGIN:STANDARD
TZOFFSETFROM:-0400
TZOFFSETTO:-0500
TZNAME:EST
DTSTART:20251102T060000
END:STANDARD
BEGIN:DAYLIGHT
TZOFFSETFROM:-0500
TZOFFSETTO:-0400
TZNAME:EDT
DTSTART:20260308T070000
END:DAYLIGHT
BEGIN:STANDARD
TZOFFSETFROM:-0400
TZOFFSETTO:-0500
TZNAME:EST
DTSTART:20261101T060000
END:STANDARD
BEGIN:DAYLIGHT
TZOFFSETFROM:-0500
TZOFFSETTO:-0400
TZNAME:EDT
DTSTART:20270314T070000
END:DAYLIGHT
BEGIN:STANDARD
TZOFFSETFROM:-0400
TZOFFSETTO:-0500
TZNAME:EST
DTSTART:20271107T060000
END:STANDARD
END:VTIMEZONE
BEGIN:VEVENT
DTSTART;TZID=America/New_York:20260329T110000
DTEND;TZID=America/New_York:20260329T123000
DTSTAMP:20260423T063510
CREATED:20260227T020850Z
LAST-MODIFIED:20260331T184902Z
UID:6497-1774782000-1774787400@www.castletonhill.org
SUMMARY:Fellowship Hour
DESCRIPTION:Fellowship hour is a time after Worship for refreshments\, meet and greet\, and catching up with old friends and new.
URL:https://www.castletonhill.org/event/fellowship-hour-27/
LOCATION:Castleton Hill Moravian Church\, 1657 Victory Blvd\, Staten Island\, NY\, 10314\, United States
CATEGORIES:Holy Week,Recreational
ATTACH;FMTTYPE=image/jpeg:https://www.castletonhill.org/wp-content/uploads/2025/03/chmc-fellowship-hour-1920-sm.jpg
ORGANIZER;CN="Castleton Hill Moravian Church":MAILTO:Office@CastletonHill.org
END:VEVENT
BEGIN:VEVENT
DTSTART;TZID=America/New_York:20260329T160000
DTEND;TZID=America/New_York:20260329T180000
DTSTAMP:20260423T063510
CREATED:20260227T013740Z
LAST-MODIFIED:20260227T013740Z
UID:6487-1774800000-1774807200@www.castletonhill.org
SUMMARY:Game Night
DESCRIPTION:Game Night meets on Sundays at 4:00 pm at Castleton Hill Moravian Church. \nPlayers donate $1 per session as a contribution to the church. \nIf there is a question about whether there will be a session due to weather or special events\, please call the church office at +1 718-442-5215.
URL:https://www.castletonhill.org/event/game-night-17/
LOCATION:NY
CATEGORIES:Recreational
ATTACH;FMTTYPE=image/jpeg:https://www.castletonhill.org/wp-content/uploads/2025/03/chmc-game-night-1920-sm.jpg
END:VEVENT
END:VCALENDAR